BEGIN:VCALENDAR
VERSION:2.0
PRODID:-//littleflowerchurch.org//eCatholic//EN
X-WR-TIMEZONE:LocalTZ
BEGIN:VTIMEZONE
TZID:LocalTZ
X-LIC-LOCATION:LocalTZ
BEGIN:DAYLIGHT
TZOFFSETFROM:-0500
TZOFFSETTO:-0400
TZNAME:LocalTZ
DTSTART:19700308T020000
RRULE:FREQ=YEARLY;BYMONTH=3;BYDAY=2SU
END:DAYLIGHT
BEGIN:STANDARD
TZOFFSETFROM:-0400
TZOFFSETTO:-0500
TZNAME:LocalTZ
DTSTART:19701101T020000
RRULE:FREQ=YEARLY;BYMONTH=11;BYDAY=1SU
END:STANDARD
END:VTIMEZONE
BEGIN:VEVENT
UID:1765407@littleflowerchurch.org
DTSTAMP:20260423T092656Z
DTSTART:20260428T133000
DTEND:20260428T151500
RRULE:FREQ=WEEKLY;BYDAY=TU
EXDATE:20220627T133000,20220705T133000
SUMMARY:Food Pantry Open
END:VEVENT
BEGIN:VEVENT
UID:1765409@littleflowerchurch.org
DTSTAMP:20260423T092656Z
DTSTART:20260423T133000
DTEND:20260423T151500
RRULE:FREQ=WEEKLY;BYDAY=TH
EXDATE:20220630T133000
SUMMARY:Food Pantry Open
END:VEVENT
BEGIN:VEVENT
UID:1885182@littleflowerchurch.org
DTSTAMP:20260423T092656Z
DTSTART:20260429T190000
DTEND:20260429T200000
RRULE:FREQ=WEEKLY;BYDAY=WE
SUMMARY:Ablaze Young Adult Group
DESCRIPTION:For Young Adults (age 18-30s) | Payne Hall
END:VEVENT
BEGIN:VEVENT
UID:1971021@littleflowerchurch.org
DTSTAMP:20260423T092656Z
DTSTART:20260520T183000
DTEND:20260520T200000
RRULE:FREQ=MONTHLY;BYDAY=WE;BYSETPOS=3
SUMMARY:Food Pantry Open
END:VEVENT
BEGIN:VEVENT
UID:2698266@littleflowerchurch.org
DTSTAMP:20260423T092656Z
DTSTART:20260427T183000
DTEND:20260427T200000
RRULE:FREQ=WEEKLY;BYDAY=MO
SUMMARY:Men's Prayer Group
DESCRIPTION:Rooms 2/3 in Parish Center
END:VEVENT
BEGIN:VEVENT
UID:2698275@littleflowerchurch.org
DTSTAMP:20260423T092656Z
DTSTART:20260428T193000
DTEND:20260428T210000
RRULE:FREQ=WEEKLY;BYDAY=TU
SUMMARY:Young Mom's Book Study
END:VEVENT
BEGIN:VEVENT
UID:2698793@littleflowerchurch.org
DTSTAMP:20260423T092656Z
DTSTART:20260425T173000
DTEND:20260425T193000
RRULE:FREQ=WEEKLY;BYDAY=SA
SUMMARY:Middle & High School Faith Formation
DESCRIPTION:Second and Fourth Saturdays of the Month | Upper Room
END:VEVENT
BEGIN:VEVENT
UID:2698800@littleflowerchurch.org
DTSTAMP:20260423T092656Z
DTSTART:20260426T160000
DTEND:20260426T180000
RRULE:FREQ=WEEKLY;BYDAY=SU
SUMMARY:Becoming Catholic
END:VEVENT
BEGIN:VEVENT
UID:2699318@littleflowerchurch.org
DTSTAMP:20260423T092656Z
DTSTART:20260426T100000
DTEND:20260426T113000
RRULE:FREQ=WEEKLY;BYDAY=SU
SUMMARY:CGS Level One
DESCRIPTION:Fr. Payne Hall | Level One Atrium
END:VEVENT
BEGIN:VEVENT
UID:2863239@littleflowerchurch.org
DTSTAMP:20260423T092656Z
DTSTART:20260426T100000
DTEND:20260426T113000
RRULE:FREQ=WEEKLY;BYDAY=SU
SUMMARY:CGS Level 3
DESCRIPTION:Fr. Payne Hall | Level Three Atrium
END:VEVENT
BEGIN:VEVENT
UID:2863243@littleflowerchurch.org
DTSTAMP:20260423T092656Z
DTSTART:20260425T100000
DTEND:20260425T110000
RRULE:FREQ=WEEKLY;BYDAY=SA
SUMMARY:CGS Level 2
DESCRIPTION:Fr. Payne Hall | Level Two Atrium
END:VEVENT
END:VCALENDAR
